BEGIN:VCALENDAR
VERSION:2.0
PRODID:-//Cumiana Outdoor - ECPv6.15.20//NONSGML v1.0//EN
CALSCALE:GREGORIAN
METHOD:PUBLISH
X-WR-CALNAME:Cumiana Outdoor
X-ORIGINAL-URL:https://cumianaoutdoor.com
X-WR-CALDESC:Eventi per Cumiana Outdoor
REFRESH-INTERVAL;VALUE=DURATION:PT1H
X-Robots-Tag:noindex
X-PUBLISHED-TTL:PT1H
BEGIN:VTIMEZONE
TZID:UTC
BEGIN:STANDARD
TZOFFSETFROM:+0000
TZOFFSETTO:+0000
TZNAME:UTC
DTSTART:20230101T000000
END:STANDARD
END:VTIMEZONE
BEGIN:VEVENT
DTSTART;VALUE=DATE:20240324
DTEND;VALUE=DATE:20240325
DTSTAMP:20260423T204221
CREATED:20240304T214228Z
LAST-MODIFIED:20240314T172721Z
UID:264-1711238400-1711324799@cumianaoutdoor.com
SUMMARY:ENDURO DEL SASQUATCH | 3* edizione
DESCRIPTION:Domenica 24 Marzo avrà luogo la terza edizione di ENDURO DEL SASQUATCH!\n\n\nPrima prova della Coppa Piemonte valevole per il TITOLO REGIONALE MASTER 2024.\n\n\n2 Prove Speciali\, 17 km e 800 mt d+.\n\n\nIscrizioni su https://api.endu.net/r/i/91294\n\n\nSabato prove libere\nDomenica segreteria dalle 7.30 alle 8.30\n\n\n\n\n  \n\n\n\n\n\n\n\n\n\n\nVisualizza questo post su Instagram\n\n\n\n\n\n\n\n\n\n\n\n\n\n\n\n\n\n\n\n\n\n\n  \nUn post condiviso da Team Sasquatch (@team.sasquatch.mtb)
URL:https://cumianaoutdoor.com/evento/enduro-sasquatch-2024/
LOCATION:Piazza Martiri 3 Aprile 10040 Cumiana\, Piazza Martiri 3 Aprile\, Cumiana\, TO\, 10040\, Italia
CATEGORIES:Bike
ATTACH;FMTTYPE=image/jpeg:https://cumianaoutdoor.com/wp-content/uploads/enduro-sasquatch-2024.jpg
END:VEVENT
END:VCALENDAR