BEGIN:VCALENDAR
VERSION:2.0
PRODID:-//Cumiana Outdoor - ECPv6.15.20//NONSGML v1.0//EN
CALSCALE:GREGORIAN
METHOD:PUBLISH
X-WR-CALNAME:Cumiana Outdoor
X-ORIGINAL-URL:https://cumianaoutdoor.com
X-WR-CALDESC:Eventi per Cumiana Outdoor
REFRESH-INTERVAL;VALUE=DURATION:PT1H
X-Robots-Tag:noindex
X-PUBLISHED-TTL:PT1H
BEGIN:VTIMEZONE
TZID:UTC
BEGIN:STANDARD
TZOFFSETFROM:+0000
TZOFFSETTO:+0000
TZNAME:UTC
DTSTART:20230101T000000
END:STANDARD
END:VTIMEZONE
BEGIN:VEVENT
DTSTART;VALUE=DATE:20240602
DTEND;VALUE=DATE:20240603
DTSTAMP:20260423T162530
CREATED:20240530T075550Z
LAST-MODIFIED:20240602T142746Z
UID:686-1717286400-1717372799@cumianaoutdoor.com
SUMMARY:Pedaliamo per Cumiana
DESCRIPTION:Nuova edizione di “Pedaliamo per Cumiana”\, organizzata da ASD Francesco Camusso con il supporto di Commercio Diffuso Cumiana\, Croce Verde\, Lions Club e AIB. \nPercorso di 15 km circa adatto a tutte le età. Sono previsti ristori a metà percorso\, Torre San Giacomo e in Piazza Martiri a fine pedalata. Si ricorda che è obbligatorio per tutti i partecipanti l’utilizzo del casco\, e si raccomanda di verificare il buon funzionamento del proprio mezzo\, compresi i freni!\nRicchi premi ad estrazione con sorteggio al termine della manifestazione. \nRitrovo alle 8.30 e partenza alle 9.30 da piazza Martiri 3 Aprile\, Cumiana. Sarà possibile iscriversi direttamente in piazza dalle 8 alle 9:30.\nQuota di partecipazione: 10€ comprensiva di maglietta. Il ricavato sarà devoluto all’A.I.B. di Cumiana.
URL:https://cumianaoutdoor.com/evento/pedaliamo-per-cumiana/
LOCATION:Piazza Martiri 3 Aprile 10040 Cumiana\, Piazza Martiri 3 Aprile\, Cumiana\, TO\, 10040\, Italia
CATEGORIES:Bike
ATTACH;FMTTYPE=image/jpeg:https://cumianaoutdoor.com/wp-content/uploads/pedaliamo-per-cumiana-2024.jpeg
END:VEVENT
END:VCALENDAR