BEGIN:VCALENDAR
VERSION:2.0
PRODID:-//Cumiana Outdoor - ECPv6.15.20//NONSGML v1.0//EN
CALSCALE:GREGORIAN
METHOD:PUBLISH
X-ORIGINAL-URL:https://cumianaoutdoor.com
X-WR-CALDESC:Eventi per Cumiana Outdoor
REFRESH-INTERVAL;VALUE=DURATION:PT1H
X-Robots-Tag:noindex
X-PUBLISHED-TTL:PT1H
BEGIN:VTIMEZONE
TZID:UTC
BEGIN:STANDARD
TZOFFSETFROM:+0000
TZOFFSETTO:+0000
TZNAME:UTC
DTSTART:20230101T000000
END:STANDARD
END:VTIMEZONE
BEGIN:VEVENT
DTSTART;VALUE=DATE:20240915
DTEND;VALUE=DATE:20240916
DTSTAMP:20260424T044112
CREATED:20240905T111255Z
LAST-MODIFIED:20240909T074203Z
UID:869-1726358400-1726444799@cumianaoutdoor.com
SUMMARY:Camminata ecologica Puliamo il Mondo 2024
DESCRIPTION:Ritorna anche quest’anno la campagna di riqualificazione più grande d’Italia organizzata da Legambiente\, che soltanto lo scorso anno è riuscita a raggiungere 1300 città e a coinvolgere 400.000 volontari. \nLa campagna Puliamo il Mondo promuove e sottolinea l’importanza del clima di pace\, per dimostrare che la Pace deve essere costruita dal basso lavorando insieme alle realtà locali\, alle comunità\, a tutti i cittadini e le cittadine e rifiutando ogni forma di odio\, violenza e pregiudizio: solo in questo modo sarà possibile dar vita a territori rispettati e ambienti inclusivi e accoglienti. \nA Cumiana quest’anno doppia passeggiata ecologica\, due piacevoli camminate di gruppo con attività di pulizia e raccolta di rifiuti abbandonati. I due punti di ritrovo e iscrizione: \n\nSentiero Anfiteatro: ore 8 ritrovo in piazza Martiri\nTerre Alte di Cumiana: ore 8.30 ritrovo strada Verna 37 (ingresso Camping Verna / Ristorante Freidour)\n\nAl momento dell’iscrizione sarà consegnato il kit a tutti i volontari (guanti\, sacchetti\, cappellini e tutto il necessario).\nL’evento terminerà verso le ore 13. \nL’appuntamento è organizzato dal Comune di Cumiana nell’ambito del Settembre Cumianese in collaborazione con associazioni CAI Cumiana\, Noi Pieve\, Vivere la Montagna\, ASD Francesco Camusso\, Team Sasquatch\, Cumiana Outdoor\, Proloco Cumiana. \nAllegati:\nInformativa privacy per i partecipanti\nLiberatoria uso immagini
URL:https://cumianaoutdoor.com/evento/puliamoilmondo-2024/
LOCATION:Piazza Martiri 3 Aprile 10040 Cumiana\, Piazza Martiri 3 Aprile\, Cumiana\, TO\, 10040\, Italia
CATEGORIES:Altri eventi,Trekking
ATTACH;FMTTYPE=image/jpeg:https://cumianaoutdoor.com/wp-content/uploads/camminata-ecologica-con-legambiente-cumiana.jpg
END:VEVENT
BEGIN:VEVENT
DTSTART;VALUE=DATE:20240929
DTEND;VALUE=DATE:20240930
DTSTAMP:20260424T044112
CREATED:20240916T150425Z
LAST-MODIFIED:20240916T150500Z
UID:884-1727568000-1727654399@cumianaoutdoor.com
SUMMARY:Mangia Cammina Pedala 2024
DESCRIPTION:Passeggiata e pedalata gastronomica tra le borgate di Cumiana\n\nPartenza dalla sede della Croce Verde di Cumiana: 8.30 / 9.15 / 10.00\nParcheggio in Piazza Grande Torino)\nArrivo in Piazza Martiri\n\nCLICCA QUI PER VISUALIZZARE IL PERCORSO \nINDICAZIONI \nPresentarsi 15 minuti prima della partenza.\nIndispensabile l’utilizzo di abbigliamento e scarpe comode.\nPercorso non adatto ai passeggini.\nCani obbligatoriamente provvisti di guinzaglio. \nAll’arrivo di tutti i gruppi in piazza\, ci sarà un’estrazione a premi fra tutti i partecipanti. Ogni scheda data alla partenza sarà numerata e dovrà essere consegnata all’atto del ritiro del premio. Verranno estratti numeri per diversi premi (televisore\, friggitrice ad aria\, taglia bordi elettrico\, set di pentole..). I premi saranno consegnati solo in presenza. Diversamente si provvederà ad estrarre un altro numero. \nPAGAMENTO ALL’ISCRIZIONE TASSATIVO ENTRO IL 24 SETTEMBRE presso: \n\n– sede Croce Verde (via Pugnani 4)\nEdicola da Matteo (via Provinciale 79)\nEdicola da Monica (Piazza martiri III Aprile 68)\nLombardi Gioielli (via Umberto 17) – iscrizioni solo per pedalata\n\n€ 25\,00 Adulti – € 15\,00 Bambini (6-10 anni) GRATIS (0-5 anni compiuti) \nCONTATTI PER INFORMAZIONI:\n(dalle 9:00 alle 17:00): Segreteria Croce Verde 3346845518\n(ore serali – solo info sul percorso): Maurizio 338 1698788 \nEvento a cura della Croce Verde di Cumiana
URL:https://cumianaoutdoor.com/evento/mangia-cammina-pedala-2024/
LOCATION:Cumiana\, Cumiana\, TO\, 10040
CATEGORIES:Altri eventi,Bike,Trekking
ATTACH;FMTTYPE=image/jpeg:https://cumianaoutdoor.com/wp-content/uploads/mangia-cammina-pedala-2024-cumiana.jpg
END:VEVENT
END:VCALENDAR