BEGIN:VCALENDAR
VERSION:2.0
PRODID:-//Cumiana Outdoor - ECPv6.15.20//NONSGML v1.0//EN
CALSCALE:GREGORIAN
METHOD:PUBLISH
X-WR-CALNAME:Cumiana Outdoor
X-ORIGINAL-URL:https://cumianaoutdoor.com
X-WR-CALDESC:Eventi per Cumiana Outdoor
REFRESH-INTERVAL;VALUE=DURATION:PT1H
X-Robots-Tag:noindex
X-PUBLISHED-TTL:PT1H
BEGIN:VTIMEZONE
TZID:UTC
BEGIN:STANDARD
TZOFFSETFROM:+0000
TZOFFSETTO:+0000
TZNAME:UTC
DTSTART:20230101T000000
END:STANDARD
END:VTIMEZONE
BEGIN:VEVENT
DTSTART;VALUE=DATE:20241201
DTEND;VALUE=DATE:20241202
DTSTAMP:20260424T011454
CREATED:20241124T184523Z
LAST-MODIFIED:20241124T201914Z
UID:961-1733011200-1733097599@cumianaoutdoor.com
SUMMARY:Uliveti Cumianesi: visita al frantoio con degustazione
DESCRIPTION:Cumiana antica riportava già nella toponimia dei luoghi il nome “oliva” ad indicare\, forse\, la presenza di coltivi ad uliveti. Ora di quella regione non vi è più ragione se non la frazione Tavernette. Tutta un’altra storia rispetto ai recenti impianti di pregiata spremitura: vieni a scoprirli! \nProgramma\nSaliremo al borgo della Costa dove l’antico maniero dei Conti Canalis domina la vallata per poi proseguire al sito che avvolge i ruderi del primo incastellamento. Attraverso la “strada dei morti” giungeremo alle soglie del parco montano Tre Denti e Freidour e lungo gli uliveti alla nostra meta. \nPARTENZA: ore 9 Cumiana\, piazza Martiri \nDIFFICOLTA: escursionistico \nTIPOLOGIA ITINERARIO: ad anello \nABBIGLIAMENTO: multistrato adeguato alla stagione\, giacca antivento e antipioggia\, berretto\, guanti\, occhiali da sole\, scarpe da trekking\, bastoncini(facoltativi)\, borraccia. \nINFORMAZIONI COSTI E ISCRIZIONI: +39 333 977 8108 oppure p.poggio65@gmail.com \nLe iscrizioni dovranno pervenire entro le ore 18 del 29 novembre. \nLa quota include accompagnamento professionale\, assicurazione RC\, organizzazione\, coordinamento\, conduzione dell’attività\, degustazione.
URL:https://cumianaoutdoor.com/evento/uliveti-cumianesi-2024/
LOCATION:Cumiana\, Cumiana\, TO\, 10040
CATEGORIES:Trekking
ATTACH;FMTTYPE=image/jpeg:https://cumianaoutdoor.com/wp-content/uploads/uliveti-cumianesi-1-dicembre.jpg
END:VEVENT
END:VCALENDAR