BEGIN:VCALENDAR
VERSION:2.0
PRODID:-//Cumiana Outdoor - ECPv6.15.20//NONSGML v1.0//EN
CALSCALE:GREGORIAN
METHOD:PUBLISH
X-ORIGINAL-URL:https://cumianaoutdoor.com
X-WR-CALDESC:Eventi per Cumiana Outdoor
REFRESH-INTERVAL;VALUE=DURATION:PT1H
X-Robots-Tag:noindex
X-PUBLISHED-TTL:PT1H
BEGIN:VTIMEZONE
TZID:UTC
BEGIN:STANDARD
TZOFFSETFROM:+0000
TZOFFSETTO:+0000
TZNAME:UTC
DTSTART:20240101T000000
END:STANDARD
END:VTIMEZONE
BEGIN:VEVENT
DTSTART;VALUE=DATE:20250518
DTEND;VALUE=DATE:20250519
DTSTAMP:20260423T180820
CREATED:20250512T162935Z
LAST-MODIFIED:20250512T162935Z
UID:1197-1747526400-1747612799@cumianaoutdoor.com
SUMMARY:Intelleg(g)o dunque faccio
DESCRIPTION:In occasione del Maggio dei Libri 2025 la biblioteca di Cumiana\, in collaborazione con la guida escursionistica Paolo Poggio\, propone una passeggiata letteraria dal titolo: “Intelleg(g)o dunque faccio” in occasione dei 50 anni dell’Ape Maia. \nEra infatti il 1975 quando la simpatica ape fece il suo primo volo in TV. Dedichiamo allora una passeggiata alle api leggendo alcune memorabili pagine dedicate al loro mondo. \nLetture a cura della bibliotecaPasseggiata di difficoltà medio bassa aperta a tutti \n\nDomenica 18 maggio\nRitrovo nel parco di Villa Venchi alle ore 8.45\nPer info: Paolo 3339778108
URL:https://cumianaoutdoor.com/evento/intelleggo-dunque-faccio/
LOCATION:Cumiana\, Cumiana\, TO\, 10040
CATEGORIES:Altri eventi,Trekking
ATTACH;FMTTYPE=image/jpeg:https://cumianaoutdoor.com/wp-content/uploads/intelleggo.jpg
END:VEVENT
END:VCALENDAR