BEGIN:VCALENDAR
VERSION:2.0
PRODID:-//Cumiana Outdoor - ECPv6.15.20//NONSGML v1.0//EN
CALSCALE:GREGORIAN
METHOD:PUBLISH
X-WR-CALNAME:Cumiana Outdoor
X-ORIGINAL-URL:https://cumianaoutdoor.com
X-WR-CALDESC:Eventi per Cumiana Outdoor
REFRESH-INTERVAL;VALUE=DURATION:PT1H
X-Robots-Tag:noindex
X-PUBLISHED-TTL:PT1H
BEGIN:VTIMEZONE
TZID:UTC
BEGIN:STANDARD
TZOFFSETFROM:+0000
TZOFFSETTO:+0000
TZNAME:UTC
DTSTART:20240101T000000
END:STANDARD
END:VTIMEZONE
BEGIN:VEVENT
DTSTART;VALUE=DATE:20250702
DTEND;VALUE=DATE:20250703
DTSTAMP:20260423T150249
CREATED:20250617T194622Z
LAST-MODIFIED:20250617T194658Z
UID:1279-1751414400-1751500799@cumianaoutdoor.com
SUMMARY:Vertical Rocca Due Denti
DESCRIPTION:Dalla marcia alpina alla Rocca dei primi anni ’80 – dove con un percorso ad anello si raggiungeva la Rocca Due Denti – alla versione moderna del Vertical. \nLa discesa del vecchio percorso ora diventa salita!  500mt D+ per meno di 3 km vi porteranno in cima alla chiesetta dove ammirare un panorama a 360° con il Monviso\, perfetto per essere ammirato al tramonto. \nVi aspettiamo in Frazione Tavernette a Cumiana! \n\n2 LUGLIO 2025\nRITROVO ORE 18.00\nVIA PARROCCHIA 21 CIRCOLO RICREATIVO SPORTIVO TAVERNETTE\nPARTENZA PRIMO ATLETA ORE 19.30\n\nISCRIVITI QUI
URL:https://cumianaoutdoor.com/evento/vertical-rocca-due-denti-2025/
LOCATION:TO
CATEGORIES:Altri eventi,Trekking
ATTACH;FMTTYPE=image/jpeg:https://cumianaoutdoor.com/wp-content/uploads/Vertical-Rocca-Due-Denti.jpg
END:VEVENT
BEGIN:VEVENT
DTSTART;VALUE=DATE:20250725
DTEND;VALUE=DATE:20250726
DTSTAMP:20260423T150249
CREATED:20250427T155552Z
LAST-MODIFIED:20250427T155753Z
UID:1118-1753401600-1753487999@cumianaoutdoor.com
SUMMARY:Quat Pass vers San Valerian
DESCRIPTION:Torna anche quest’anno\, in edizione serale\, la decima edizione della corsa e camminata non competitiva aperta a tutti verso San Valeriano\, organizzata dal Circolo Tavernette e con il patrocinio del Comune di Cumiana. \nINFORMAZIONI \n\nData: 25 luglio 2025\nQUOTA DI ISCRIZIONE 8\,00€\nIscrizioni sul luogo di ritrovo fino a 15 min. prima della partenza\nA tutti i partecipanti pacco gara + aperigara all’arrivo\nPer i gruppi è gradita la prenotazione\n\nPROGRAMMA \n\nORE 18.00 Ritrovo in piazza – Fr. Tavernette (Cumiana)\nORE 19.00/19\,15 Partenza\n\nCon l’iscrizione i partecipanti dichiarano di essere in regola con le vigenti normative previste per l’attività sportiva non agonistica e sollevano gli organizzatori da ogni responsabilità per eventuali danni fisici e materiali a se stessi a terzi o a cose prima\, durante e dopo la manifestazione. È assicurato il servizio di assistenza. \n  \nPer ulteriori informazioni: MARIANGELA – 3371677093 // ELENA – 3486716195
URL:https://cumianaoutdoor.com/evento/quat-pass-san-valerian-2025/
LOCATION:Cumiana\, Cumiana\, TO\, 10040
CATEGORIES:Altri eventi,Trekking
ATTACH;FMTTYPE=image/jpeg:https://cumianaoutdoor.com/wp-content/uploads/quat-pass-san-valerian-2025.jpg
END:VEVENT
END:VCALENDAR