BEGIN:VCALENDAR
VERSION:2.0
PRODID:-//Cumiana Outdoor - ECPv6.15.20//NONSGML v1.0//EN
CALSCALE:GREGORIAN
METHOD:PUBLISH
X-ORIGINAL-URL:https://cumianaoutdoor.com
X-WR-CALDESC:Eventi per Cumiana Outdoor
REFRESH-INTERVAL;VALUE=DURATION:PT1H
X-Robots-Tag:noindex
X-PUBLISHED-TTL:PT1H
BEGIN:VTIMEZONE
TZID:UTC
BEGIN:STANDARD
TZOFFSETFROM:+0000
TZOFFSETTO:+0000
TZNAME:UTC
DTSTART:20230101T000000
END:STANDARD
END:VTIMEZONE
BEGIN:VEVENT
DTSTART;VALUE=DATE:20240623
DTEND;VALUE=DATE:20240624
DTSTAMP:20260424T095029
CREATED:20240611T112321Z
LAST-MODIFIED:20240614T155304Z
UID:740-1719100800-1719187199@cumianaoutdoor.com
SUMMARY:Escursione al Monte Seguret
DESCRIPTION:Il monte Seguret domina l’abitato di Oulx ed è di notevole interesse geologico in quanto la sua struttura geologica rappresenta un raro esempio di roccia dolomitica presente in Val Susa. Contornato da forti e avamposti militari ottocenteschi in passato sui suoi versanti furono effettuate prospezioni minerarie per l’estrazione di metalli tra i quali il rame e il ferro. \nPARTENZA: ore 07\,00 Cumiana piazza Martiri\nDISLIVELLO: 700m circa\nDIFFICOLTA: escursionistico\nLUNGHEZZA: 12km circa\nTIPOLOGIA ITINERARIO: lineare \nINFORMAZIONI E ISCRIZIONI: +39 333 977 8108 oppure p.poggio65@gmail.com \ncredits foto: The original uploader was iguprino at Italian Wikipedia.\, CC BY 2.5 IT\, via Wikimedia Commons
URL:https://cumianaoutdoor.com/evento/escursione-monte-seguret/
LOCATION:Piazza Martiri 3 Aprile 10040 Cumiana\, Piazza Martiri 3 Aprile\, Cumiana\, TO\, 10040\, Italia
CATEGORIES:Trekking
ATTACH;FMTTYPE=image/jpeg:https://cumianaoutdoor.com/wp-content/uploads/Seguret.jpg
ORGANIZER;CN="CAI Cumiana":MAILTO:cumiana@cai.it
END:VEVENT
END:VCALENDAR