BEGIN:VCALENDAR
VERSION:2.0
PRODID:-//Cumiana Outdoor - ECPv6.15.20//NONSGML v1.0//EN
CALSCALE:GREGORIAN
METHOD:PUBLISH
X-WR-CALNAME:Cumiana Outdoor
X-ORIGINAL-URL:https://cumianaoutdoor.com
X-WR-CALDESC:Eventi per Cumiana Outdoor
REFRESH-INTERVAL;VALUE=DURATION:PT1H
X-Robots-Tag:noindex
X-PUBLISHED-TTL:PT1H
BEGIN:VTIMEZONE
TZID:UTC
BEGIN:STANDARD
TZOFFSETFROM:+0000
TZOFFSETTO:+0000
TZNAME:UTC
DTSTART:20230101T000000
END:STANDARD
END:VTIMEZONE
BEGIN:VEVENT
DTSTART;VALUE=DATE:20240804
DTEND;VALUE=DATE:20240805
DTSTAMP:20260424T071630
CREATED:20240410T203559Z
LAST-MODIFIED:20240410T203559Z
UID:440-1722729600-1722815999@cumianaoutdoor.com
SUMMARY:Festa Monte Tre Denti
DESCRIPTION:Fin dal settecento sulla vetta dei Tre Denti è presente la cappella dedicata alla Trasfigurazione di Cristo costruita dagli abitanti delle borgate sottostanti. Nel 1973 i soci del CAI Cumiana\, da poco fondato\, la ristrutturarono e da allora ogni anno si celebra anche la festa della montagna cumianese. \nTradizionale Festa della Madonna della Neve e della Trasfigurazione.\nFunzione in vetta presso la Cappella della Trasfigurazione in cima al Monte Tre Denti. \nPer chi desiderasse raggiungere la vetta in gruppo\, la partenza è prevista in mattinata dai Bastianoni. \nA seguire rinfresco e intrattenimento. \n[In arrivo ulteriori dettagli] \n  \n  \n– Foto di Renato Novena –
URL:https://cumianaoutdoor.com/evento/festa-monte-tre-denti-2024/
LOCATION:Monte Tre Denti\, Cumiana\, Italia
CATEGORIES:Altri eventi,Trekking
ATTACH;FMTTYPE=image/jpeg:https://cumianaoutdoor.com/wp-content/uploads/festa-tre-denti-cumiana-cai.jpg
ORGANIZER;CN="CAI Cumiana":MAILTO:cumiana@cai.it
END:VEVENT
END:VCALENDAR