BEGIN:VCALENDAR
VERSION:2.0
PRODID:-//Cumiana Outdoor - ECPv6.15.20//NONSGML v1.0//EN
CALSCALE:GREGORIAN
METHOD:PUBLISH
X-ORIGINAL-URL:https://cumianaoutdoor.com
X-WR-CALDESC:Eventi per Cumiana Outdoor
REFRESH-INTERVAL;VALUE=DURATION:PT1H
X-Robots-Tag:noindex
X-PUBLISHED-TTL:PT1H
BEGIN:VTIMEZONE
TZID:UTC
BEGIN:STANDARD
TZOFFSETFROM:+0000
TZOFFSETTO:+0000
TZNAME:UTC
DTSTART:20230101T000000
END:STANDARD
END:VTIMEZONE
BEGIN:VEVENT
DTSTART;VALUE=DATE:20241013
DTEND;VALUE=DATE:20241014
DTSTAMP:20260424T045723
CREATED:20240928T210726Z
LAST-MODIFIED:20240928T210737Z
UID:909-1728777600-1728863999@cumianaoutdoor.com
SUMMARY:Salita al Freidour
DESCRIPTION:Trekking di livello escursionistico gratuito e adatto a tutti\, a cura di Anpi e Cai di Cumiana. \nNel 1994 in vetta al monte è stato posto dall’amministrazione comunale di Cantalupa il monumento chiamato “Ali come vele“\, realizzato in acciaio dallo scultore Michele Privileggi. Tale monumento è dedicato al ricordo del disastro aereo avvenuto la sera del 13 ottobre del 1944\, quando un velivolo Liberator HK 239 della Royal Air Force\, durante un’operazione di rifornimento di aiuti al partigiani\, si schiantò contro la parete del monte causando la morte di 8 aviatori: C.W. Lawton (Australia)\, T.D. Fotheringham (Scozia)\, E.H.A. Clift\, G. Tennison\, D.W. Bishop\, D.R. Wellon\, S.E. Lockton e J. Bucks (Inghilterra). \nPROGRAMMA DELL’ESCURSIONE \n\nRitrovo alle 9:00 Piazza Martiri sotto l’ala del mercato. Proseguimento in auto per Frazione Ravera.\nParcheggio e partenza a piedi – ore 9:30 circa.\nBreve sosta al Prà l’Abba\nPranzo al sacco.\n\nCARATTERISTICHE DEL PERCORSO \n\nDifficoltà: E\nEsposizione prevalente: Nord\nQuota partenza (m): 835-Quota massima (m): 1451- dislivello salita totale (m): 900\nTempo di percorrenza: circa 3 ore (con soste lungo il cammino).\n\nIn caso di maltempo la camminata sarà rinviata ad altra data. \nPer info anpicumiana@gmail.com o 3397441868 (Whatsapp).
URL:https://cumianaoutdoor.com/evento/salita-al-freidour-2024/
LOCATION:Monte Freidour\, Cumiana\, Italia
CATEGORIES:Trekking
ATTACH;FMTTYPE=image/jpeg:https://cumianaoutdoor.com/wp-content/uploads/Monte-Freidour-Monumento-ai-caduti-della-RAF-2.jpg
ORGANIZER;CN="ANPI Cumiana":MAILTO:anpicumiana@gmail.com
END:VEVENT
END:VCALENDAR