BEGIN:VCALENDAR
VERSION:2.0
PRODID:-//Cumiana Outdoor - ECPv6.15.20//NONSGML v1.0//EN
CALSCALE:GREGORIAN
METHOD:PUBLISH
X-WR-CALNAME:Cumiana Outdoor
X-ORIGINAL-URL:https://cumianaoutdoor.com
X-WR-CALDESC:Eventi per Cumiana Outdoor
REFRESH-INTERVAL;VALUE=DURATION:PT1H
X-Robots-Tag:noindex
X-PUBLISHED-TTL:PT1H
BEGIN:VTIMEZONE
TZID:UTC
BEGIN:STANDARD
TZOFFSETFROM:+0000
TZOFFSETTO:+0000
TZNAME:UTC
DTSTART:20240101T000000
END:STANDARD
END:VTIMEZONE
BEGIN:VEVENT
DTSTART;VALUE=DATE:20250803
DTEND;VALUE=DATE:20250804
DTSTAMP:20260423T150554
CREATED:20250725T142746Z
LAST-MODIFIED:20250725T142746Z
UID:1307-1754179200-1754265599@cumianaoutdoor.com
SUMMARY:Festa della Montagna di Cumiana
DESCRIPTION:Il monte Tre Denti\, simbolo del nostro territorio\, insieme al monte Freidour delimita i confini del Parco Montano indicandone anche il\nnome e fin dal 1767 è luogo della Cappella dedicata alla Trasfigurazione del Signore. \nDa sempre in occasione della festività del 6 agosto – dedicata proprio alla Trasfigurazione – le genti si ritrovano per la celebrazione Eucaristica e la Benedizione\, festa ereditata dal CAI Cumiana nel 1973 in collaborazione con le borgate Oreglia\, Trucco Oreglia\, Mago\, Vola\, Ciom. \nPer chi desiderasse raggiungere la vetta in gruppo\, la partenza è prevista in mattinata (ore 8.00) dai Bastianoni. Alle 10.00\, presso la Cappella in cima al Dente Orientale\, si terrà la Santta Messa celebrata da Monsignor Derio Olivero Vescovo di Pinerolo. Alle 12.00 rinfresco conviviale alla Sorgente del Pieu offerto dal CAI CUMIANA. \n\nDislivello+ 450m circa\nLunghezza solo andata 4 km\nAbbigliamento e calzature adatte ad escursione in montagna\n\nL’iniziativa è organizzata dal Cai Cumiana in collaborazione con l’Associazione Vivere la Montagna\, con il patrocinio del Comune di Cumiana e di Città Metropolitana.
URL:https://cumianaoutdoor.com/evento/festa-monte-tre-denti-2025/
LOCATION:Monte Tre Denti\, Cumiana\, Italia
CATEGORIES:Trekking
ATTACH;FMTTYPE=image/jpeg:https://cumianaoutdoor.com/wp-content/uploads/Festa-della-Montagna-2025.jpg
ORGANIZER;CN="CAI Cumiana":MAILTO:cumiana@cai.it
END:VEVENT
END:VCALENDAR