BEGIN:VCALENDAR
VERSION:2.0
PRODID:-//Cumiana Outdoor - ECPv6.15.20//NONSGML v1.0//EN
CALSCALE:GREGORIAN
METHOD:PUBLISH
X-ORIGINAL-URL:https://cumianaoutdoor.com
X-WR-CALDESC:Eventi per Cumiana Outdoor
REFRESH-INTERVAL;VALUE=DURATION:PT1H
X-Robots-Tag:noindex
X-PUBLISHED-TTL:PT1H
BEGIN:VTIMEZONE
TZID:UTC
BEGIN:STANDARD
TZOFFSETFROM:+0000
TZOFFSETTO:+0000
TZNAME:UTC
DTSTART:20240101T000000
END:STANDARD
END:VTIMEZONE
BEGIN:VEVENT
DTSTART;VALUE=DATE:20251109
DTEND;VALUE=DATE:20251110
DTSTAMP:20260423T105103
CREATED:20251108T174024Z
LAST-MODIFIED:20251108T174427Z
UID:1336-1762646400-1762732799@cumianaoutdoor.com
SUMMARY:Caldarroste in panchina
DESCRIPTION:Come ogni anno l’Associazione Vivere la Montagna ci attende tutti alla Panchina Gigante di Cumiana per un pomeriggio a base di caldarroste e aria aperta 🌰 \nCi vediamo presso le Terre Alte (zona Parcheggio Bastianoni) a partire dalle 14.30 e fino alle 17 🔥 \nIngresso gratuito a offerta libera \n\nPer l’occasione Natura che Cura organizza anche una simpatica escursione alla scoperta del castagno e del bosco d’autunno; un’esperienza sensoriale adatta a grandi e piccoli per osservare e riscoprire il piacere di camminare tra i colori più belli dell’anno. \n\nLuogo: Panchina Gigante – B.ta Bastianoni\, Cumiana\nDurata: circa 1 ora e 30 minuti dalle ore 14.00\nDifficoltà: facile – adatta a famiglie e bambini\nCosa portare: scarpe comode\, abbigliamento adatto al bosco\, curiosità e voglia di scoprire!\nQuota di partecipazione escursione: € 5\,00 a persona – bambini gratis\nInfo e prenotazioni: trekkability@gmail.com\n\nFatti cogliere in castagna! \n \n 
URL:https://cumianaoutdoor.com/evento/caldarroste-in-panchina-2025/
LOCATION:Panchina Gigante Cumiana\, strada Verna (Parcheggio Bastianoni)\, Cumiana\, TO\, 10040\, Italia
CATEGORIES:Altri eventi,Trekking
ATTACH;FMTTYPE=image/jpeg:https://cumianaoutdoor.com/wp-content/uploads/Caldarroste-in-panchina-Cumiana.jpg
END:VEVENT
END:VCALENDAR